Workbook

Sheet Лист1
O21: =SUM(I21:N21) -> 0
O22: =SUM(I22:N22) -> 0
O24: =SUM(I24:N24) -> 0
O25: =SUM(I25:N25) -> 0
O27: =SUM(I27:N27) -> 0
O28: =SUM(I28:N28) -> 0
O30: =SUM(I30:N30) -> 0
O31: =SUM(I31:N31) -> 0
O33: =SUM(I33:N33) -> 0
O34: =SUM(I34:N34) -> 0
O35: =SUM(I35:N35) -> 0
O36: =SUM(I36:N36) -> 0
... O89: =SUM(I89:N89) -> 0

Sheet Лист2
I1: Приложение 2
E2: к муниципальной программе "Комплексное развитие Русско-Паевского сельского поселения Инсарского муниципального района Республики Мордовия на 2021-2025 годы"
A6: Ресурсное обеспечение
A7: и прогнозная (справочная) оценка расходов за счет всех источников финансирования на реализацию Муниципальной программы «Комплексное развитие Русско-Паевского сельского поселения Инсарского муниципального района Республики Мордовия на 2021-2025 годы"
A9: Статус | B9: Наименование муниципальной программы Республики Мордовия, подпрограммы муниципальной программы (в том числе ведомственной программы, основного мероприятия, районного проекта), районной целевой программы | C9: Источник финансирования | D9: Оценка расходов по годам, тыс. рублей
D10: 2021 год - очередной | E10: 2022 год | F10: 2023 год | G10: 2024 год | H10: 2025 год
A11: 1 | B11: 2 | C11: 3 | D11: 4 | E11: 5 | F11: 6 | G11: 7 | H11: 8 | I11: 9
A12: Муниципальная программа Республики Мордовия | B12: Комплексное развитие сельских территорий | C12: всего | D12: =D18+D43+D48+D64 -> 502.8 | E12: =E18+E43+E64 -> 0 | F12: =F18+F43+F64 -> 3000 | G12: 2149.2 | H12: =H18+H43+H64 -> 0 | I12: =I18+I43+I64 -> 0 | J12: =D12+E12+F12+G12+H12+I12 -> 5652
C13: в том числе:
C14: республиканский бюджет | D14: =D20+D45+D66 -> 352 | E14: =E20+E45+E66 -> 0 | F14: =F20+F45+F66 -> 3000 | G14: =G20+G45+G66 -> 1482.9 | H14: =H20+H45+H66 -> 0 | I14: =I20+I45+I66 -> 0 | J14: =D14+E14+F14+G14+H14+I14 -> 4834.9
C15: бюджет Инсарского муниципального района | D15: =D21+D46 -> 0 | E15: =E21+E46 -> 0 | F15: =F21+F46 -> 0 | G15: 21.5 | H15: =H21 -> 0 | I15: =I21 -> 0 | J15: =D15+E15+F15+G15+H15+I15 -> 21.5
C16: местный бюджет | D16: 5.1
C17: внебюджетные источники | D17: =D22+D47+D53 -> 145.7 | E17: =E22+E47 -> 0 | F17: =F22+F47 -> 0 | G17: =G22+G47 -> 644.8 | H17: =H22+H47 -> 0 | I17: =I22+I47 -> 0 | J17: =D17+E17+F17+G17+H17+I17 -> 790.5
A18: Подпрограмма 1 | B18: Создание условий для обеспечения доступным и комфортным жильем сельского населения | C18: всего | D18: =D23+D28+D33 -> 0 | E18: =E23+E28+E33 -> 0 | F18: =F23+F28+F33 -> 3000 | G18: =G23+G28+G33 -> 2127.7 | H18: =H23+H28+H38+H33 -> 0 | I18: =I23+I28+I33 -> 0 | J18: =D18+E18+F18+G18+H18+I18 -> 5127.7
C19: в том числе:
C20: республиканский бюджет | D20: =D25+D30+D35+D50 -> 352 | E20: =E25+E30+E35 -> 0 | F20: =F25+F30+F35 -> 3000 | G20: =G25+G30+G35 -> 1482.9 | H20: =H25+H30+H40+H35 -> 0 | I20: =I25+I30+I35 -> 0 | J20: =D20+E20+F20+G20+H20+I20 -> 4834.9
C21: бюджет Инсарского муниципального района | D21: =D26 -> 0 | E21: =E26 -> 0 | F21: =F26 -> 0 | G21: 21.5 | H21: =H26+H41 -> 0 | I21: =I26 -> 0 | J21: =D21+E21+F21+G21+H21+I21 -> 21.5
C22: внебюджетные источники | D22: =D27+D32 -> 0 | E22: =E27+E32 -> 0 | F22: =F27+F32 -> 0 | G22: =G27+G32 -> 644.8 | H22: =H27+H32 -> 0 | I22: =I27+I32 -> 0 | J22: =D22+E22+F22+G22+H22+I22 -> 644.8
A23: Основное мероприятие 1.1 | B23: в том числе: Улучшение жилищных условий граждан, проживающих на сельских территориях | C23: всего | D23: =D25+D26+D27 -> 0 | E23: =E25+E26+E27 -> 0 | F23: =F25+F26+F27 -> 0 | G23: =G25+G26+G27 -> 0 | H23: =H25+H26+H27 -> 0 | I23: =I25+I26+I27 -> 0
C24: в том числе:
C25: республиканский бюджет
C26: бюджет Инсарского муниципального района
C27: внебюджетные источники
A28: Основное мероприятие 1.2 | B28: Строительство жилья, предоставляемого по договору найма жилого помещения | C28: всего | E28: =E30+E32 -> 0 | F28: =F30+F32 -> 0 | G28: =G30+G32 -> 2127.7 | H28: =H30+H32 -> 0 | I28: =I30+I32 -> 0
C29: в том числе:
C30: республиканский бюджет | D30: =Лист1!I25 -> 0 | G30: 1482.9
C31: бюджет Инсарского муниципального района | G31: 21.5
C32: внебюджетные источники | G32: 644.8
A33: Основное мероприятие 1.3 | B33: Льготная сельская ипотека | C33: всего | F33: 3000 | J33: =D33+E33+F33+G33+H33+I33 -> 3000
C34: в том числе:
C35: республиканский бюджет | F35: 3000 | J35: =D35+E35+F35+G35+H35+I35 -> 3000
C36: бюджет Инсарского муниципального района | D36: 0 | E36: 0 | G36: 0 | H36: 0 | I36: 0
C37: внебюджетные источники | D37: 0 | E37: 0 | G37: 0 | H37: 0 | I37: 0 | J37: =SUM(D36:I36) -> 0
A38: Основное мероприятие 1.4 | B38: Обустройство объектами инженерной инфраструктуры и благоустройство площадок, расположенных на сельских территориях, под компактную жилищную застройку | C38: всего | J38: =SUM(D37:I37) -> 0
C39: в том числе:
C40: республиканский бюджет | D40: =Лист1!I31 -> 0 | E40: =Лист1!J31 -> 0 | F40: =Лист1!K31 -> 0 | G40: =Лист1!L31 -> 0 | I40: =Лист1!N31 -> 0 | J40: =SUM(#REF!) -> #REF!
C41: бюджет Инсарского муниципального района
C42: внебюджетные источники | D42: 0 | E42: 0 | F42: 0 | G42: 0 | H42: 0 | I42: 0
A43: Пподпрограмма 2 | B43: Создание и развитие инфраструктуры на сельских территориях | C43: всего | E43: =E45+E46+E47 -> 0 | F43: =F45+F46+F47 -> 0 | G43: =G45+G47 -> 0 | H43: =H45+H47 -> 0 | I43: =I45+I47 -> 0 | J43: =E43+F43+G43+H43+I43 -> 0
C44: в том числе:
...
